Workbook

Sheet Descuentos vigentes
K3: Caducados
D4: Descuentos Autorizados | K4: Proximos a Caducar
D5: PONTIFICIA UNIVERSIDAD JAVERIANA | K5: Con Tiempo
D7: SOLICITUD DE DESCUENTOS PUJ | J7: Hoy | K7: =TODAY() -> 44810
J8: Días de Alerta a vencer | K8: 15
A11: VIGENCIA | B11: DESCUENTO | C11: % DE DESCUENTO | E11: BENEFICIARIOS | F11: REQUISITOS | G11: FECHA DE LA FIRMA DEL CONVENIO | H11: DURACION | I11: FECHA DE VIGENCIA | J11: Días faltantes
A12: =IF(J12<=0,$K$3,IF(J12<=$K$8,$K$4,$K$5)) -> Caducados | B12: Ministerio de Defensa Nacional | G12: 25 octubre de 2018 | H12: 3 años | I12: 44607 | J12: =I12-$K$7 -> -203
C13: 0.1 | D13: Pregrado
C14: 0.2 | D14: Posgrado | E14: Uniformados Activos | F14: Certificación SIATH no mayor a 30 dias
C15: 0.25 | D15: Posgrado (Grupos de 5 o más funcionarios presentados por la entidad) | E15: No Uniformados - Civiles Activos con la entidad (Se excluyen contratistas) | F15: Fotocopia de Carné de Sanidad
C16: 0.15 | D16: Diplomados (Grupos de 3 a 5 participantes) | E16: y sus beneficiarios : padres, hijos y conyugues o compañeros permanentes | F16: Fotocopia del documento de identidad del funcionario
C17: 0.2 | D17: Diplomados (Más 5 participantes)
C18: 0.25 | D18: Diplomados y cursos para grupos cerrados de minimo 20 part.
A19: =IF(J19<=0,$K$3,IF(J19<=$K$8,$K$4,$K$5)) -> Con Tiempo | B19: Departamento Nacional de Planeación | G19: 18 junio de 2021 | H19: 2 años (24 meses) | I19: 45095 | J19: =I19-$K$7 -> 285
C20: 0.1 | D20: Pregrado
C21: 0.1 | D21: Posgrado | E21: Funcionarios de la entidad e hijos. | F21: Certificación por parte de la entidad no mayor a 30 dias
C22: 0.25 | D22: Posgrado (Grupos de más 15 funcionarios o contratistas presentados por la entidad) | E22: Contratistas de la entidad e hijos. | F22: Registro Civil de Nacimiento (si el beneficio aplica a hijos de funcionarios y Contratistas)
C23: 0.15 | D23: Diplomados (Grupos de 3 a 5 participantes funcionarios o contratistas)
C24: 0.2 | D24: Diplomados (Más 5 participantes funcionarios o contratistas)
B25: Asociación Colombiana para el Avance de la Ciencia ACAC | C25: 0.1 | D25: Pregrado y Posgrado | E25: Asociado vigente vinculado a ACAC | F25: Certificación por parte de la entidad no mayor a 30 dias | G25: 05 julio de 2019 | H25: 1 año | I25: Convenio vigente de acuerdo a comunicación con la Dirección de Mercadeo de Programas Academicos
A28: =IF(J28<=0,$K$3,IF(J28<=$K$8,$K$4,$K$5)) -> Con Tiempo | B28: Secretaria Distrital de Integración Social | C28: 0.1 | D28: Pregrado y Posgrado (Servidores de planta e hijos) | E28: Servidores de Planta e Hijos | H28: 3 años | I28: 45817 | J28: =I28-$K$7 -> 1007
C29: 0.12 | D29: Pregrado y Posgrado (Contratistas vinculados a la entidad) | E29: Contratistas (Personas con contrato de prestación de servicios) | G29: 11 de junio de 2019
C30: 0.2 | D30: Posgrado (Grupos cerrados serv. de planta e hijos) | F30: Certificación Laboral de la entidad no mayor a 30 dias
C31: 0.25 | D31: Posgrado (Grupos cerrados contratistas) | E31: Los grupos cerrados son Min 15 estudiantes y Max 30 estudiantes. | F31: Registro Civil de Nacimiento (si el beneficio aplica a hijos de funcionarios) | G31: *Prorroga 09 junio 2022
C32: 0.15 | D32: Diplomados (3 a 5 participantes - Serv. de planta y contratistas)
C33: 0.2 | D33: Diplomados (Más de 5 participantes - Serv. de planta y contratistas)
A34: =IF(J34<=0,$K$3,IF(J34<=$K$8,$K$4,$K$5)) -> Con Tiempo | B34: Departamento Administrativo para Prosperidad Social | C34: 0.1 | D34: Pregrado (Funcionarios y beneficiarios) | E34: Funcionarios de Planta y sus beneficiarios / Se entiende por beneficiarios hijos, conyugues o compañeros permanentes del funcionario. | G34: 10 diciembre de 2019 | H34: 3 años | I34: 44925 | J34: =I34-$K$7 -> 115
C35: 0.2 | D35: Posgrado (Funcionarios y beneficiarios) | F35: Certificación laboral de la entidad no mayor a 30 dias.
C36: 0.25 | D36: Posgrado (Grupos de 5 o más funcionarios presentados por la entidad) | F36: Para el caso de los beneficiarios, la entidad emitirá un certificado donde se especifique el grado de consanguinidad o afinidad del beneficiario con el servidor publico.
C37: 0.15 | D37: Diplomados (Grupos de 3 a 5 funcionarios de planta)
C38: 0.2 | D38: Diplomados (Más de 5 participantes funcionarios de planta)
A39: =IF(J39<=0,$K$3,IF(J39<=$K$8,$K$4,$K$5)) -> Con Tiempo | B39: Universidad La Gran Colombia | C39: 0.25 | D39: Doctorados | E39: Docentes, investigadores y administrativos vinculados tiempo completo con la Universidad | F39: La Universidad a través de un comunicado presentará a los beneficiarios del descuento. | G39: 30 enero de 2020 | H39: 5 años | I39: 45687 | J39: =I39-$K$7 -> 877
A42: =IF(J42<=0,$K$3,IF(J42<=$K$8,$K$4,$K$5)) -> Con Tiempo | B42: British Council | G42: 04 Octubre de 2021 | H42: 2 año | I42: 45203 | J42: =I42-$K$7 -> 393
C43: 0.05 | D43: Pregrado (Hijos Profesores / Administrativo Instituciones Educativas vinculadas) | E43: Egresados | F43: Certificación Laboral del colegio vinculado con el British Council no mayor a 30 dias
C44: 0.08 | D44: Pregrado - Egresados de Instituciones Educativas vinculadas | E44: Docentes
C45: 0.05 | D45: Posgrado - Administrativo Instituciones Educativas vinculadas | E45: Directivos de la entidad | F45: Copia Diploma o Acta de Grado de la Universidad
C46: 0.15 | D46: Posgrado - Profesores Instituciones Educativas vinculadas | E46: Funcionarios de la entidad e hijos.
C47: 0.25 | D47: Posgrado (Profesores / Administrativo Instituciones Educativas vinculadas) Primer Otrosí | F47: Para el caso de los beneficiarios, adjuntar adicionalmente copia del registro civil de nacimiento.
A50: =IF(J50<=0,$K$3,IF(J50<=$K$8,$K$4,$K$5)) -> Con Tiempo | B50: Sena | G50: 08 Noviembre de 2021 | H50: 5 año | I50: 46334 | J50: =I50-$K$7 -> 1524
C51: 0.05 | D51: Pregrado - Egresados del SENA | E51: Egresados | F51: Certificación Laboral no mayor a 30 dias
...

Sheet Convenios caducados
K3: Caducados
D4: Descuentos Autorizados | K4: Proximos a Caducar
D5: PONTIFICIA UNIVERSIDAD JAVERIANA | K5: Con Tiempo
D7: SOLICITUD DE DESCUENTOS PUJ | J7: Hoy | K7: =TODAY() -> 44810
J8: Días de Alerta a vencer | K8: 15
A10: VIGENCIA | B10: DESCUENTO | C10: % DE DESCUENTO | E10: BENEFICIARIOS | F10: REQUISITOS | G10: FECHA DE LA FIRMA DEL CONVENIO | H10: DURACION | I10: FECHA DE VIGENCIA | J10: Días faltantes
A11: =IF(J11<=0,'Descuentos vigentes'!$K$3,IF(J11<='Descuentos vigentes'!$K$8,'Descuentos vigentes'!$K$4,'Descuentos vigentes'!$K$5)) -> Caducados | B11: Cámara de Representantes | C11: 0.05 | D11: 3 a 5 estudiantes de posgrado | E11: Funcionario de la Cámara de Representantes | F11: Solicitud del descuento por escrito, por parte de la Dirección de Personal de la entidad, con los datos del funcionario. | G11: 07 julio de 2020 | H11: 2 años | I11: 44749 | J11: =I11-'Descuentos vigentes'!$K$7 -> -61
C12: 0.08 | D12: 6 a 9 estudiantes de posgrado
C13: 0.1 | D13: 10 estudiantes en adelante de posgrado
A14: =IF(J14<=0,'Descuentos vigentes'!$K$3,IF(J14<='Descuentos vigentes'!$K$8,'Descuentos vigentes'!$K$4,'Descuentos vigentes'!$K$5)) -> Caducados | B14: Alcaldía de Barranquilla | F14: Certificación laboral de la entidad no mayor a 30 dias. | I14: 44749 | J14: =I14-'Descuentos vigentes'!$K$7 -> -61
C15: 0.1 | D15: Hijos de funcionarios en pregrado | E15: Funcionarios de la entidad e hijos.
C16: 0.1 | D16: Funcionarios y contratistas en posgrado | E16: Se incluyen contratistas | F16: Para el caso de los beneficiarios, adjuntar adicionalmente copia del registro civil de nacimiento.
C17: 0.15 | D17: Servidores publicos y contratistas en diplomados (grupos 3 a 5 per.) | G17: 07 Julio de 2021 | H17: 1 año
C18: 0.2 | D18: Servidores publicos y contratistas en diplomados (grupos mas de 5 per.)
A20: =IF(J20<=0,'Descuentos vigentes'!$K$3,IF(J20<='Descuentos vigentes'!$K$8,'Descuentos vigentes'!$K$4,'Descuentos vigentes'!$K$5)) -> Caducados | B20: Banco de Occidente | F20: Certificación laboral de la entidad no mayor a 30 dias. | I20: 44706 | J20: =I20-'Descuentos vigentes'!$K$7 -> -104
C21: 0.05 | D21: Hijos de funcionarios en pregrado
C22: 0.05 | D22: Funcionarios en posgrado | E22: Funcionarios de la entidad e hijos. | F22: Para el caso de los beneficiarios, adjuntar adicionalmente copia del registro civil de nacimiento.
C23: 0.25 | D23: Grupo de empleados en posgrado | G23: 25 Mayo de 2021 | H23: 1 año
C24: 0.15 | D24: Servidores publicos y contratistas en diplomados (grupos 3 a 5 per.)
C25: 0.2 | D25: Servidores publicos y contratistas en diplomados (grupos mas de 5 per.)
A26: =IF(J26<=0,'Descuentos vigentes'!$K$3,IF(J26<='Descuentos vigentes'!$K$8,'Descuentos vigentes'!$K$4,'Descuentos vigentes'!$K$5)) -> Caducados | B26: COOPEDAC | J26: =I28-'Descuentos vigentes'!$K$7 -> -45
C27: 0.05 | D27: Empleado posgrado (grupos 3 a 5 per.) | E27: Empleados de la empresa | F27: Ser presentados por COOPEDAC de manera formal (a través de un bono educativo en el que se indiquen los datos del funcionario y se solicite el descuento en el marco del presente convenio).
C28: 0.08 | D28: Empleado posgrado (grupos 6 a 9 per.) | G28: 44035 | H28: 2 año | I28: 44765
C29: 0.1 | D29: Empleado posgrado (grupos mas de 10 per.)
A32: =IF(J32<=0,'Descuentos vigentes'!$K$3,IF(J32<='Descuentos vigentes'!$K$8,'Descuentos vigentes'!$K$4,'Descuentos vigentes'!$K$5)) -> Caducados | B32: Conpucol | J32: =I34-'Descuentos vigentes'!$K$7 -> -198
C33: 0.05 | D33: Empleado posgrado (grupos 3 a 5 per.) | E33: Empleados de la empresa | F33: Ser presentados por Conpucol de manera formal (a través de un bono educativo en el que se indiquen los datos del funcionario y se solicite el descuento en el marco del presente convenio).
C34: 0.08 | D34: Empleado posgrado (grupos 6 a 9 per.) | G34: 43881 | H34: 2 año | I34: 44612
C35: 0.1 | D35: Empleado posgrado (grupos mas de 10 per.)
A38: =IF(J38<=0,'Descuentos vigentes'!$K$3,IF(J38<='Descuentos vigentes'!$K$8,'Descuentos vigentes'!$K$4,'Descuentos vigentes'!$K$5)) -> Caducados | B38: ADECCO | J38: =I40-'Descuentos vigentes'!$K$7 -> -179
C39: 0.05 | D39: Empleado posgrado (grupos 3 a 5 per.) | E39: Empleados de la empresa | F39: Ser presentados por ADECCO de manera formal (a través de un bono educativo en el que se indiquen los datos del funcionario y se solicite el descuento en el marco del presente convenio).
C40: 0.08 | D40: Empleado posgrado (grupos 6 a 9 per.) | G40: 44266 | H40: 1 año | I40: 44631
C41: 0.1 | D41: Empleado posgrado (grupos mas de 10 per.)

Sheet Col y Univer Compañia de Jesús
B3: LISTADO DE COLEGIOS PERTENECIENTES A LA COMPAÑÍA DE JESÚS | F3: LISTADO DE UNIVERSIDADES CONFIADAS A LA COMPAÑÍA DE JESÚS EN LATINOAMERICA
B5: 1 | C5: Colegio Berchmans | D5: Cali | F5: 1 | G5: Universidad Católica de Córdoba | H5: Argentina
B6: 2 | C6: Colegio Mayor de San Bartolomé | D6: Bogotá | F6: 2 | G6: UNISINOS - Universidade do Vale do Rio dos Sinos | H6: Brasil
B7: 3 | C7: Colegio San Bartolomé La Merced | D7: Bogotá | F7: 3 | G7: Pontificia Universidade Católica do Rio de Janeiro - PUC-Rio | H7: Brasil
B8: 4 | C8: Colegio San Francisco Javier | D8: Pasto | F8: 4 | G8: Universidade Católica de Pernambuco | H8: Brasil
B9: 5 | C9: Colegio San Ignacio de Loyola | D9: Medellin | F9: 5 | G9: Centro Universitário FEI | H9: Brasil
B10: 6 | C10: Colegio San José | D10: Barranquilla | F10: 6 | G10: Faculdade Jesuíta de Filosofia e Teologia (Faje) | H10: Brasil
B11: 7 | C11: Colegio San Luis Gonzaga | D11: Manizales | F11: 7 | G11: Universidad Alberto Hurtado | H11: Chile
B12: 8 | C12: Colegio San Pedro Claver | D12: Bucaramanga | F12: 8 | G12: Pontificia Universidad Católica del Ecuador | H12: Ecuador
B13: 9 | C13: Colegio Santa Luisa | D13: Bogotá | F13: 9 | G13: Universidad Centroamericana "José Simeón Cañas" | H13: El Salvador
F14: 10 | G14: Universidad Rafael Landívar | H14: Guatemala
F15: 11 | G15: Universidad Iberoamericana Torreón | H15: México
F16: 12 | G16: Universidad Iberoamericana Ciudad de México | H16: México
F17: 13 | G17: Universidad Iberoamericana Puebla | H17: México
F18: 14 | G18: Universidad Iberoamericana León | H18: México
F19: 15 | G19: Universidad Iberoamericana Tijuana | H19: México
F20: 16 | G20: ITESO Universidad Jesuita de Guadalajara | H20: México
F21: 17 | G21: ISIA-Instituto Superior Intercultural Ayuuk Oaxaca-Mixe | H21: México
F22: 18 | G22: Tecnológico Universitario del Valle de Chalco | H22: México
F23: 19 | G23: Universidad Centroamericana, UCA Nicaragua | H23: Nicaragua
F24: 20 | G24: Instituto Superior de Estudios Humanísticos y Filosóficos | H24: Paraguay
F25: 21 | G25: Universidad del Pacífico | H25: Perú
... F32: 28 | G32: Instituto Universitario Jesús Obrero | H32: Venezuela

Sheet Colegios AACBI
B3: LISTADO DE COLEGIOS AACBI
B5: 1 | C5: Buckingham School
B6: 2 | C6: Cambridge International School
B7: 3 | C7: Colegio Abraham Lincoln
B8: 4 | C8: Colegio Albania – El Cerrejón
B9: 5 | C9: Colegio Aleman Medellín
B10: 6 | C10: Colegio Anglo Colombiano
B11: 7 | C11: Colegio Aspaen Gimnasio Iragua
B12: 8 | C12: Colegio Aspaen Gimnasio Los Alcazares
B13: 9 | C13: Colegio Britanico De Cartagena
B14: 10 | C14: Colegio Británico Internacional
B15: 11 | C15: Colegio Ciedi
B16: 12 | C16: Colegio Colombo Británico
... B50: 46 | C50: The English School

Sheet Colegios British Council
B3: LISTADO DE COLEGIOS asociados a British Council
B5: 1 | C5: Colegio Bilingüe Clermont
B6: 2 | C6: Colegio Colombo Americano
B7: 3 | C7: Colegio Colombo Hebreo
B8: 4 | C8: Colegio Ingles de los Andes
B9: 5 | C9: Colegio Liceo de Colombia
B10: 6 | C10: Colegio Marymount Barranquilla
B11: 7 | C11: Colegio Marymount Medellín
B12: 8 | C12: Colegio Montessori
B13: 9 | C13: Colegio Newman
B14: 10 | C14: Colegio Nueva Inglaterra
B15: 11 | C15: Colegio Sagrado Corazon de Jesus
B16: 12 | C16: Colegio San Bartolome La Merced
... B26: 22 | C26: Montessori British School

Sheet Entidades DASCD
B3: LISTADO DE ENTIDADES DASCD
C5: Caja de Vivienda Popular - CVP
B6: 2 | C6: Canal Capital
B7: 3 | C7: Concejo de Bogotá D.C.
B8: 4 | C8: Contraloría de Bogotá D.C.
B9: 5 | C9: Departamento Administrativo de la Defensoría del Espacio Público - DADEP
B10: 6 | C10: Departamento Administrativo del Servicio Civil Distrital - DASCD
B11: 7 | C11: Empresa de Acueducto y Alcantarillado de Bogotá E.S.P. - EAAB
B12: 8 | C12: Empresa de Renovación y Desarrollo Urbano de Bogotá D.C. - ERU
B13: 9 | C13: Empresa de Transporte del Tercer Milenio - TRANSMILENIO S.A
B14: 10 | C14: Fondo De Prestaciones Económicas, Cesantías Y Pensiones - FONCEP
B15: 11 | C15: Fundación Gilberto Álzate Avendaño - FUGA
B16: 12 | C16: Instituto de Desarrollo Urbano - IDU
B17: 13 | C17: Instituto Distrital de la Gestión del Riesgo y Cambio Climático - IDIGER
... B56: 52 | C56: Veeduría Distrital de Bogotá D.C.

Sheet Entidades Punto Azul
C2: NIT | D2: RAZÓN SOCIAL
C3: 860002693 - 3 | D3: 3M Colombia S.A.
C4: 900932340 - 3 | D4: A. Menarini Latin America, S.L.U. - Sucursal Colombia
C5: 860002134 - 8 | D5: Abbott Laboratories De Colombia S.A.S.
C6: 900514524 - 9 | D6: Abbvie S.A.S.
C7: 830139989 - 8 | D7: Actifarma S.A.
C8: 900126800 - 2 | D8: Advance Scientific De Colombia S.A.S.
C9: 901338428 - 9 | D9: Ah Robins Inc S.A.S.
C10: 860010268 - 1 | D10: Ajoveco S.A.S.
C11: 830017238 - 1 | D11: Al Pharma S.A.S.
C12: 900347422 - 1 | D12: Alergologos Clinicos Asociados S.A.S.
C13: 900320096 - 4 | D13: Alexion Pharma Colombia S.A.S.
... C285: 901327440-0 | D285: Soluciones Ambientales Sostenibles Punto Azul S.A.S.

Sheet Prog egres coleg. Acodesi
B3: Antropología
B4: Arquitectura
B5: Bacteriología
B6: Biología
B7: Bioingeniería
B8: Ciencia de Datos
B9: Ciencia de la Información Bibliotecología y Archivística
B10: Contaduría Pública
B11: Diseño Industrial
B12: Ecología
B13: Economía
B14: Enfermería
... B36: Teología

Sheet Entidades ACHC
B2: RAZON SOCIAL | C2: MUNICIPIO | D2: DEPARTAMENTO
B3: Alergólogos De Occidente S.A.S | C3: Cali | D3: Valle
B4: Amarey Nova Medical S.A. | C4: Bogotá | D4: Cundinamarca
B5: Amedi S.A.S
B6: Ami Pallium Colombia S.A.S
B7: Angiografía De Occidente S.A. | C7: Cali | D7: Valle
B8: Asociacion Colombiana De Instituciones De Salud Domiciliaria | C8: Bogota | D8: Cundinamarca
B9: Asociación De Hospitales Y Empresas Sociales Del Estado Del Departamento Del Valle Del Cauca – Asohosval | C9: Cali | D9: Valle
B10: Asociación Pro-Bienestar De La Familia Colombiana-Profamilia | C10: Bogotá | D10: Cundinamarca
B11: B. Braun Medical S.A. | C11: Bogotá | D11: Cundinamarca
B12: Becton Dickinson De Colombia Ltda | C12: Cota | D12: Cundinamarca
B13: Benjamin Barney Gasca | C13: Florida | D13: Valle
B14: Best Home Care
B15: Bioart S.A. | C15: Cali | D15: Valle
B16: Bionexo Colombia S.A.S. | C16: Bogotá | D16: Cundinamarca
B17: Biotronitech Colombia Sas | C17: Bogotá | D17: Cundinamarca
B18: Carvajal Servicios S.A.S | C18: Bogotá | D18: Cundinamarca
B19: Cediul S.A. | C19: Barranquilla | D19: Atlántico
B20: Centenario | C20: Sevilla | D20: Valle
B21: Centro Diagnóstico De Especialistas -Clínica Cedes Ltda. | C21: Riohacha | D21: La Guajira
B22: Centro Médico Buenos Aires Ltda | C22: Cartagena | D22: Bolívar
B23: Centro Médico Imbanaco De Cali S.A. | C23: Cali | D23: Valle
B24: Centro Médico Oftalmológico Y Laboratorio Clínico Andrade Narvaez Sociedad Por Acciones Simplificada | C24: Bogotá | D24: Cundinamarca
B25: Clínica Altos De San Vicente Ltda. | C25: Barranquilla | D25: Atlántico
B26: Clínica Atenas Ltda Ips | C26: Barranquilla | D26: Atlántico
... B67: Colsalud S.A. Clínica Mar Caribe | C67: Santa Marta | D67: Magdalena
B68: Corporación Hospital Infantil Concejo De Medellín
B69: Corporación Hospitalaria Juan Ciudad | C69: Bogotá | D69: Cundinamarca
B70: Corporación Para Estudios En Salud Ces | C70: Medellín | D70: Antioquia
B71: Corporación Salud Un Hospital Universitario Nacional | C71: Bogotá | D71: Cundinamarca
B72: Cruz Roja Colombiana Seccional Cundinamarca Y Bogotá | C72: Bogotá | D72: Cundinamarca
B73: Cuidado Seguro En Casa Ips
B74: Cuidarte Tu Salud S.A.S
B75: Dacare Ips
B76: Davita Sas | C76: Bogotá | D76: Cundinamarca
B77: Dime Clinica Neurocardiovascular S.A. | C77: Cali | D77: Valle
B78: Disama Medic S.A.S. - Clínica La Misericordia | C78: Barranquilla | D78: Atlántico
B79: Divino Niño | C79: Buga | D79: Valle
B80: E.S.E Hospital San Roque | C80: El Carmen De Atrato | D80: Quibdo
B81: E.S.E Hospital Departamental San Antonio | C81: Roldanillo | D81: Valle
...

Sheet Entidades Colfecar
B2: RAZÓN SOCIAL | C2: NIT NUMERO
B3: Adispetrol S.A. | C3: 860054978
B4: Almagrario S A | C4: 899999049
B5: Almaviva Global Cargo S.A | C5: 800233052
B6: American Logistics De Colombia S.A.S | C6: 830057762
B7: Anava Transport S.A.S | C7: 900421601
B8: Asociación De Transportadores Especiales | C8: 811036515
B9: Bgp Container & Logistics S.A | C9: 835000770
B10: C.T.L. Mass Conectando Transporte Y Logística S.A.S | C10: 901140841
B11: C&S Logistica Transportadora S.A.S | C11: 900458857
B12: Carga Y Logistica De Colombia S.A. | C12: 900084672
B13: Carga Y Paquetes S.A | C13: 800237677
B14: Cayenne Group S.A.S | C14: 900518652
... B147: Zamcargo Logistica S.A.S | C147: 900724802
